BEGIN:VCALENDAR
VERSION:2.0
PRODID:-//Plaza de Toros Albacete - ECPv6.15.20//NONSGML v1.0//EN
CALSCALE:GREGORIAN
METHOD:PUBLISH
X-ORIGINAL-URL:https://plazatorosdealbacete.es
X-WR-CALDESC:Eventos para Plaza de Toros Albacete
REFRESH-INTERVAL;VALUE=DURATION:PT1H
X-Robots-Tag:noindex
X-PUBLISHED-TTL:PT1H
BEGIN:VTIMEZONE
TZID:Europe/Madrid
BEGIN:DAYLIGHT
TZOFFSETFROM:+0100
TZOFFSETTO:+0200
TZNAME:CEST
DTSTART:20250330T010000
END:DAYLIGHT
BEGIN:STANDARD
TZOFFSETFROM:+0200
TZOFFSETTO:+0100
TZNAME:CET
DTSTART:20251026T010000
END:STANDARD
BEGIN:DAYLIGHT
TZOFFSETFROM:+0100
TZOFFSETTO:+0200
TZNAME:CEST
DTSTART:20260329T010000
END:DAYLIGHT
BEGIN:STANDARD
TZOFFSETFROM:+0200
TZOFFSETTO:+0100
TZNAME:CET
DTSTART:20261025T010000
END:STANDARD
BEGIN:DAYLIGHT
TZOFFSETFROM:+0100
TZOFFSETTO:+0200
TZNAME:CEST
DTSTART:20270328T010000
END:DAYLIGHT
BEGIN:STANDARD
TZOFFSETFROM:+0200
TZOFFSETTO:+0100
TZNAME:CET
DTSTART:20271031T010000
END:STANDARD
END:VTIMEZONE
BEGIN:VEVENT
DTSTART;VALUE=DATE:20260426
DTEND;VALUE=DATE:20260427
DTSTAMP:20260420T134500
CREATED:20260204T165727Z
LAST-MODIFIED:20260204T165727Z
UID:14137-1777161600-1777247999@plazatorosdealbacete.es
SUMMARY:LAS VENTAS 6ª 2026
DESCRIPTION:Domingo 26 de abril – 18:00h \nCorrida de toros de Palha \nSánchez Vara \nFrancisco José Espada \nLuis Gerpe
URL:https://plazatorosdealbacete.es/calendario/las-ventas-6a-2026/
ATTACH;FMTTYPE=image/jpeg:https://plazatorosdealbacete.es/wp-content/uploads/2026/02/407efe7b855cc7c94892e13303bb8cc7ad2bb274de5fb97b799864fffb709761.jpg
END:VEVENT
BEGIN:VEVENT
DTSTART;VALUE=DATE:20260426
DTEND;VALUE=DATE:20260427
DTSTAMP:20260420T134500
CREATED:20260314T144502Z
LAST-MODIFIED:20260314T144502Z
UID:14609-1777161600-1777247999@plazatorosdealbacete.es
SUMMARY:Sevilla 26 de abril
DESCRIPTION:Sevilla 26 de abril. domingo – Miura. \nManuel Escribano \nPepe Moral \nRomán
URL:https://plazatorosdealbacete.es/calendario/sevilla-26-de-abril/
ATTACH;FMTTYPE=image/jpeg:https://plazatorosdealbacete.es/wp-content/uploads/2026/03/entradas-toros-sevilla-festejo-11.jpg
END:VEVENT
END:VCALENDAR