BEGIN:VCALENDAR
VERSION:2.0
PRODID:-//Plaza de Toros Albacete - ECPv6.15.20//NONSGML v1.0//EN
CALSCALE:GREGORIAN
METHOD:PUBLISH
X-ORIGINAL-URL:https://plazatorosdealbacete.es
X-WR-CALDESC:Eventos para Plaza de Toros Albacete
REFRESH-INTERVAL;VALUE=DURATION:PT1H
X-Robots-Tag:noindex
X-PUBLISHED-TTL:PT1H
BEGIN:VTIMEZONE
TZID:Europe/Madrid
BEGIN:DAYLIGHT
TZOFFSETFROM:+0100
TZOFFSETTO:+0200
TZNAME:CEST
DTSTART:20250330T010000
END:DAYLIGHT
BEGIN:STANDARD
TZOFFSETFROM:+0200
TZOFFSETTO:+0100
TZNAME:CET
DTSTART:20251026T010000
END:STANDARD
BEGIN:DAYLIGHT
TZOFFSETFROM:+0100
TZOFFSETTO:+0200
TZNAME:CEST
DTSTART:20260329T010000
END:DAYLIGHT
BEGIN:STANDARD
TZOFFSETFROM:+0200
TZOFFSETTO:+0100
TZNAME:CET
DTSTART:20261025T010000
END:STANDARD
BEGIN:DAYLIGHT
TZOFFSETFROM:+0100
TZOFFSETTO:+0200
TZNAME:CEST
DTSTART:20270328T010000
END:DAYLIGHT
BEGIN:STANDARD
TZOFFSETFROM:+0200
TZOFFSETTO:+0100
TZNAME:CET
DTSTART:20271031T010000
END:STANDARD
END:VTIMEZONE
BEGIN:VEVENT
DTSTART;VALUE=DATE:20260329
DTEND;VALUE=DATE:20260330
DTSTAMP:20260420T210313
CREATED:20260131T191107Z
LAST-MODIFIED:20260131T191107Z
UID:13958-1774742400-1774828799@plazatorosdealbacete.es
SUMMARY:Cristian Pérez - Las Ventas
DESCRIPTION:29/03/2026 Las Ventas (Madrid) España \nToros de Dolores Aguirre \nAntonio Ferrera \nIsaac Fonseca \nCristian Pérez \n \n 
URL:https://plazatorosdealbacete.es/calendario/cristian-perez-las-ventas/
ATTACH;FMTTYPE=image/jpeg:https://plazatorosdealbacete.es/wp-content/uploads/2026/01/Cristian-Perez-Madrid-2.png.jpeg
END:VEVENT
BEGIN:VEVENT
DTSTART;VALUE=DATE:20260329
DTEND;VALUE=DATE:20260330
DTSTAMP:20260420T210313
CREATED:20260131T204047Z
LAST-MODIFIED:20260131T204047Z
UID:14056-1774742400-1774828799@plazatorosdealbacete.es
SUMMARY:LAS VENTAS 2ª 2026
DESCRIPTION:29/03/2026 Las Ventas (Madrid) España \nToros de Dolores Aguirre Ybarra \nAntonio Ferrera \nIsaac Fonseca \nCristian Pérez
URL:https://plazatorosdealbacete.es/calendario/las-ventas-2a-2026/
ATTACH;FMTTYPE=image/jpeg:https://plazatorosdealbacete.es/wp-content/uploads/2026/01/entradas-toros-madrid-festejo-2.jpg
END:VEVENT
BEGIN:VEVENT
DTSTART;VALUE=DATE:20260329
DTEND;VALUE=DATE:20260330
DTSTAMP:20260420T210313
CREATED:20260314T150228Z
LAST-MODIFIED:20260314T150643Z
UID:14648-1774742400-1774828799@plazatorosdealbacete.es
SUMMARY:Villaseca de la Sagra Domingo 29 de marzo
DESCRIPTION:2ª Novillada Clasificatoria XII Alfarero de Plata 2026 \nVillaseca de la Sagra Domingo 29 de marzo\, 18:00 horas\nNovillos de Los Mimbrales\nDavid García\nJaimer Torija\nJorge Oliva\nManuel Díaz\nArmando Rojo\nRubén Vara
URL:https://plazatorosdealbacete.es/calendario/domingo-29-de-marzo/
ATTACH;FMTTYPE=image/jpeg:https://plazatorosdealbacete.es/wp-content/uploads/2026/03/29Marzo.jpeg
END:VEVENT
BEGIN:VEVENT
DTSTART;VALUE=DATE:20260329
DTEND;VALUE=DATE:20260330
DTSTAMP:20260420T210313
CREATED:20260314T154720Z
LAST-MODIFIED:20260314T154720Z
UID:14789-1774742400-1774828799@plazatorosdealbacete.es
SUMMARY:Inca - Samuel Flores
DESCRIPTION:29/03/2026 Inca (Baleares) España – Toros de Samuel Flores para \nPaco Ureña \nFortes \nDavid Galván
URL:https://plazatorosdealbacete.es/calendario/inca-samuel-flores/
ATTACH;FMTTYPE=image/png:https://plazatorosdealbacete.es/wp-content/uploads/2026/03/Cartel.png
END:VEVENT
END:VCALENDAR