BEGIN:VCALENDAR
VERSION:2.0
PRODID:-//Plaza de Toros Albacete - ECPv6.15.20//NONSGML v1.0//EN
CALSCALE:GREGORIAN
METHOD:PUBLISH
X-WR-CALNAME:Plaza de Toros Albacete
X-ORIGINAL-URL:https://plazatorosdealbacete.es
X-WR-CALDESC:Eventos para Plaza de Toros Albacete
REFRESH-INTERVAL;VALUE=DURATION:PT1H
X-Robots-Tag:noindex
X-PUBLISHED-TTL:PT1H
BEGIN:VTIMEZONE
TZID:Europe/Madrid
BEGIN:DAYLIGHT
TZOFFSETFROM:+0100
TZOFFSETTO:+0200
TZNAME:CEST
DTSTART:20250330T010000
END:DAYLIGHT
BEGIN:STANDARD
TZOFFSETFROM:+0200
TZOFFSETTO:+0100
TZNAME:CET
DTSTART:20251026T010000
END:STANDARD
BEGIN:DAYLIGHT
TZOFFSETFROM:+0100
TZOFFSETTO:+0200
TZNAME:CEST
DTSTART:20260329T010000
END:DAYLIGHT
BEGIN:STANDARD
TZOFFSETFROM:+0200
TZOFFSETTO:+0100
TZNAME:CET
DTSTART:20261025T010000
END:STANDARD
BEGIN:DAYLIGHT
TZOFFSETFROM:+0100
TZOFFSETTO:+0200
TZNAME:CEST
DTSTART:20270328T010000
END:DAYLIGHT
BEGIN:STANDARD
TZOFFSETFROM:+0200
TZOFFSETTO:+0100
TZNAME:CET
DTSTART:20271031T010000
END:STANDARD
END:VTIMEZONE
BEGIN:VEVENT
DTSTART;VALUE=DATE:20260322
DTEND;VALUE=DATE:20260323
DTSTAMP:20260421T072531
CREATED:20260131T203946Z
LAST-MODIFIED:20260131T203946Z
UID:14053-1774137600-1774223999@plazatorosdealbacete.es
SUMMARY:LAS VENTAS 1ª 2026
DESCRIPTION:22/03/2026 Las Ventas (Madrid) España \nToros de Hijos de Celestino Cuadri Vides \nPepe Moral \nDamián Castaño \nGómez del Pilar
URL:https://plazatorosdealbacete.es/calendario/las-ventas-1a-2026/
ATTACH;FMTTYPE=image/jpeg:https://plazatorosdealbacete.es/wp-content/uploads/2026/01/entradas-toros-madrid-marzo-festejo-1.jpg
END:VEVENT
BEGIN:VEVENT
DTSTART;VALUE=DATE:20260322
DTEND;VALUE=DATE:20260323
DTSTAMP:20260421T072531
CREATED:20260314T150059Z
LAST-MODIFIED:20260314T150459Z
UID:14642-1774137600-1774223999@plazatorosdealbacete.es
SUMMARY:Villaseca de la Sagra Domingo 22 de marzo
DESCRIPTION:1ª Novillada Clasificatoria XII Alfarero de Plata 2026 \nDomingo 22 de marzo – 17:30 horas\nNovillos de Toros de Castilla y Los Candiles \nJavier Fernández\nAlejandro González\nJaime Padilla\nIan Rodríguez\nNoel García\nRodrigo Cobo
URL:https://plazatorosdealbacete.es/calendario/domingo-22-de-marzo/
ATTACH;FMTTYPE=image/jpeg:https://plazatorosdealbacete.es/wp-content/uploads/2026/03/22Marzo.jpeg
END:VEVENT
END:VCALENDAR