BEGIN:VCALENDAR
VERSION:2.0
PRODID:-//Plaza de Toros Albacete - ECPv6.15.20//NONSGML v1.0//EN
CALSCALE:GREGORIAN
METHOD:PUBLISH
X-WR-CALNAME:Plaza de Toros Albacete
X-ORIGINAL-URL:https://plazatorosdealbacete.es
X-WR-CALDESC:Eventos para Plaza de Toros Albacete
REFRESH-INTERVAL;VALUE=DURATION:PT1H
X-Robots-Tag:noindex
X-PUBLISHED-TTL:PT1H
BEGIN:VTIMEZONE
TZID:Europe/Madrid
BEGIN:DAYLIGHT
TZOFFSETFROM:+0100
TZOFFSETTO:+0200
TZNAME:CEST
DTSTART:20250330T010000
END:DAYLIGHT
BEGIN:STANDARD
TZOFFSETFROM:+0200
TZOFFSETTO:+0100
TZNAME:CET
DTSTART:20251026T010000
END:STANDARD
BEGIN:DAYLIGHT
TZOFFSETFROM:+0100
TZOFFSETTO:+0200
TZNAME:CEST
DTSTART:20260329T010000
END:DAYLIGHT
BEGIN:STANDARD
TZOFFSETFROM:+0200
TZOFFSETTO:+0100
TZNAME:CET
DTSTART:20261025T010000
END:STANDARD
BEGIN:DAYLIGHT
TZOFFSETFROM:+0100
TZOFFSETTO:+0200
TZNAME:CEST
DTSTART:20270328T010000
END:DAYLIGHT
BEGIN:STANDARD
TZOFFSETFROM:+0200
TZOFFSETTO:+0100
TZNAME:CET
DTSTART:20271031T010000
END:STANDARD
END:VTIMEZONE
BEGIN:VEVENT
DTSTART;VALUE=DATE:20260315
DTEND;VALUE=DATE:20260316
DTSTAMP:20260421T173826
CREATED:20260131T200853Z
LAST-MODIFIED:20260131T200853Z
UID:14022-1773532800-1773619199@plazatorosdealbacete.es
SUMMARY:CASTELLÓN 8ª FERIA
DESCRIPTION:Domingo 15 de marzo\, \ncorrida de toros – mano a mano: Ganadería de Domingo Hernández \nAlejandro Talavante \nJuan Ortega.
URL:https://plazatorosdealbacete.es/calendario/castellon-8a-feria/
ATTACH;FMTTYPE=image/jpeg:https://plazatorosdealbacete.es/wp-content/uploads/2026/01/entradas-toros-castellon-festejo-7.jpg
END:VEVENT
BEGIN:VEVENT
DTSTART;VALUE=DATE:20260315
DTEND;VALUE=DATE:20260316
DTSTAMP:20260421T173826
CREATED:20260131T203129Z
LAST-MODIFIED:20260131T203129Z
UID:14032-1773532800-1773619199@plazatorosdealbacete.es
SUMMARY:VALENCIA 5ª FERIA
DESCRIPTION:Domingo 15 marzo 12h. \nCorrida de Rejones. Toros de María Guiomar Cortés de Moura \nAndy Cartagena \nDiego Ventura \nLea Vicens
URL:https://plazatorosdealbacete.es/calendario/valencia-5a-feria/
ATTACH;FMTTYPE=image/jpeg:https://plazatorosdealbacete.es/wp-content/uploads/2026/01/entradas-toros-valencia-fallas-festejo-5.jpg
END:VEVENT
BEGIN:VEVENT
DTSTART;VALUE=DATE:20260315
DTEND;VALUE=DATE:20260316
DTSTAMP:20260421T173826
CREATED:20260131T203222Z
LAST-MODIFIED:20260131T203222Z
UID:14035-1773532800-1773619199@plazatorosdealbacete.es
SUMMARY:VALENCIA 6ª FERIA
DESCRIPTION:Domingo 15 marzo 17h. \nCorrida de Toros. Toros de Jandilla \nSebastián Castella \nJosé María Manzanares \nPablo Aguado
URL:https://plazatorosdealbacete.es/calendario/valencia-6a-feria/
ATTACH;FMTTYPE=image/jpeg:https://plazatorosdealbacete.es/wp-content/uploads/2026/01/entradas-toros-valencia-fallas-festejo-3.jpg
END:VEVENT
END:VCALENDAR