BEGIN:VCALENDAR
VERSION:2.0
PRODID:-//Plaza de Toros Albacete - ECPv6.15.20//NONSGML v1.0//EN
CALSCALE:GREGORIAN
METHOD:PUBLISH
X-ORIGINAL-URL:https://plazatorosdealbacete.es
X-WR-CALDESC:Eventos para Plaza de Toros Albacete
REFRESH-INTERVAL;VALUE=DURATION:PT1H
X-Robots-Tag:noindex
X-PUBLISHED-TTL:PT1H
BEGIN:VTIMEZONE
TZID:Europe/Madrid
BEGIN:DAYLIGHT
TZOFFSETFROM:+0100
TZOFFSETTO:+0200
TZNAME:CEST
DTSTART:20250330T010000
END:DAYLIGHT
BEGIN:STANDARD
TZOFFSETFROM:+0200
TZOFFSETTO:+0100
TZNAME:CET
DTSTART:20251026T010000
END:STANDARD
BEGIN:DAYLIGHT
TZOFFSETFROM:+0100
TZOFFSETTO:+0200
TZNAME:CEST
DTSTART:20260329T010000
END:DAYLIGHT
BEGIN:STANDARD
TZOFFSETFROM:+0200
TZOFFSETTO:+0100
TZNAME:CET
DTSTART:20261025T010000
END:STANDARD
BEGIN:DAYLIGHT
TZOFFSETFROM:+0100
TZOFFSETTO:+0200
TZNAME:CEST
DTSTART:20270328T010000
END:DAYLIGHT
BEGIN:STANDARD
TZOFFSETFROM:+0200
TZOFFSETTO:+0100
TZNAME:CET
DTSTART:20271031T010000
END:STANDARD
END:VTIMEZONE
BEGIN:VEVENT
DTSTART;VALUE=DATE:20260314
DTEND;VALUE=DATE:20260315
DTSTAMP:20260421T185647
CREATED:20260115T232711Z
LAST-MODIFIED:20260131T201508Z
UID:13885-1773446400-1773532799@plazatorosdealbacete.es
SUMMARY:SAMUEL NAVALÓN FALLAS 2026
DESCRIPTION:sábado 14 de marzo Alejandro Talavante\, Roca Rey y Samuel Navalón\, con toros de Victoriano del Río
URL:https://plazatorosdealbacete.es/calendario/samuel-navalon-fallas-2026/
ATTACH;FMTTYPE=image/jpeg:https://plazatorosdealbacete.es/wp-content/uploads/2026/01/entradas-toros-valencia-fallas-festejo-2-1.jpg
END:VEVENT
BEGIN:VEVENT
DTSTART;VALUE=DATE:20260314
DTEND;VALUE=DATE:20260315
DTSTAMP:20260421T185647
CREATED:20260131T200759Z
LAST-MODIFIED:20260131T200759Z
UID:14019-1773446400-1773532799@plazatorosdealbacete.es
SUMMARY:CASTELLÓN 7ª FERIA
DESCRIPTION:Sábado 14 de marzo \ncorrida de toros: Ganadería de Zalduendo \nSebastián Castella \nDaniel Luque \nEmilio de Justo. \n 
URL:https://plazatorosdealbacete.es/calendario/castellon-7a-feria/
ATTACH;FMTTYPE=image/jpeg:https://plazatorosdealbacete.es/wp-content/uploads/2026/01/entradas-toros-castellon-festejo-6.jpg
END:VEVENT
END:VCALENDAR