BEGIN:VCALENDAR
VERSION:2.0
PRODID:-//Plaza de Toros Albacete - ECPv6.15.20//NONSGML v1.0//EN
CALSCALE:GREGORIAN
METHOD:PUBLISH
X-WR-CALNAME:Plaza de Toros Albacete
X-ORIGINAL-URL:https://plazatorosdealbacete.es
X-WR-CALDESC:Eventos para Plaza de Toros Albacete
REFRESH-INTERVAL;VALUE=DURATION:PT1H
X-Robots-Tag:noindex
X-PUBLISHED-TTL:PT1H
BEGIN:VTIMEZONE
TZID:Europe/Madrid
BEGIN:DAYLIGHT
TZOFFSETFROM:+0100
TZOFFSETTO:+0200
TZNAME:CEST
DTSTART:20250330T010000
END:DAYLIGHT
BEGIN:STANDARD
TZOFFSETFROM:+0200
TZOFFSETTO:+0100
TZNAME:CET
DTSTART:20251026T010000
END:STANDARD
BEGIN:DAYLIGHT
TZOFFSETFROM:+0100
TZOFFSETTO:+0200
TZNAME:CEST
DTSTART:20260329T010000
END:DAYLIGHT
BEGIN:STANDARD
TZOFFSETFROM:+0200
TZOFFSETTO:+0100
TZNAME:CET
DTSTART:20261025T010000
END:STANDARD
BEGIN:DAYLIGHT
TZOFFSETFROM:+0100
TZOFFSETTO:+0200
TZNAME:CEST
DTSTART:20270328T010000
END:DAYLIGHT
BEGIN:STANDARD
TZOFFSETFROM:+0200
TZOFFSETTO:+0100
TZNAME:CET
DTSTART:20271031T010000
END:STANDARD
END:VTIMEZONE
BEGIN:VEVENT
DTSTART;VALUE=DATE:20260308
DTEND;VALUE=DATE:20260309
DTSTAMP:20260426T034953
CREATED:20260131T195002Z
LAST-MODIFIED:20260131T214401Z
UID:14001-1772928000-1773014399@plazatorosdealbacete.es
SUMMARY:OLIVENZA 4ª FERIA TARDE
DESCRIPTION:⁠Domingo 8 de marzo a las 5 de la tarde. \nCorrida de toros. Toros de Victoriano del Río para \nAlejandro Talavante \nEmilio de Justo \nRoca Rey
URL:https://plazatorosdealbacete.es/calendario/olivenza-4a-feria-tarde/
ATTACH;FMTTYPE=image/jpeg:https://plazatorosdealbacete.es/wp-content/uploads/2026/01/entradas-toros-olivenza-festejo-2.jpg
END:VEVENT
BEGIN:VEVENT
DTSTART;VALUE=DATE:20260308
DTEND;VALUE=DATE:20260309
DTSTAMP:20260426T034953
CREATED:20260131T194843Z
LAST-MODIFIED:20260131T194843Z
UID:13998-1772928000-1773014399@plazatorosdealbacete.es
SUMMARY:OLIVENZA 3ª DE FERIA MATINAL
DESCRIPTION:⁠⁠Domingo 8 de marzo (matinal) 11.30 horas. \nCorrida de toros. Tres toros de Domingo Hernández y tres de La Ventana del Puerto \nBorja Jiménez \nDavid de Miranda \nMarco Pérez.
URL:https://plazatorosdealbacete.es/calendario/olivenza-3a-de-feria-matinal/
ATTACH;FMTTYPE=image/jpeg:https://plazatorosdealbacete.es/wp-content/uploads/2026/01/entradas-toros-olivenza-festejo-1.jpg
END:VEVENT
BEGIN:VEVENT
DTSTART;VALUE=DATE:20260308
DTEND;VALUE=DATE:20260309
DTSTAMP:20260426T034953
CREATED:20260131T195148Z
LAST-MODIFIED:20260131T195148Z
UID:14004-1772928000-1773014399@plazatorosdealbacete.es
SUMMARY:CASTELLÓN 1ª FERIA
DESCRIPTION:Domingo 8 de marzo\, \ncorrida de toros: Ganadería de «La Quinta» para \nGinés Marín \nAarón Palacio \nJavier Zulueta. \n 
URL:https://plazatorosdealbacete.es/calendario/castellon-1a-feria/
ATTACH;FMTTYPE=image/jpeg:https://plazatorosdealbacete.es/wp-content/uploads/2026/01/entradas-toros-castellon-festejo-1.jpg
END:VEVENT
BEGIN:VEVENT
DTSTART;VALUE=DATE:20260308
DTEND;VALUE=DATE:20260309
DTSTAMP:20260426T034953
CREATED:20260131T201227Z
LAST-MODIFIED:20260131T201227Z
UID:14025-1772928000-1773014399@plazatorosdealbacete.es
SUMMARY:VALENCIA 2ª FERIA
DESCRIPTION:Domingo 8 marzo 17h. \nNovillada con picadores. Novillos de Talavante \nEmiliano Osornio \nMario Vilau \nMarco Polope
URL:https://plazatorosdealbacete.es/calendario/valencia-2a-feria/
ATTACH;FMTTYPE=image/jpeg:https://plazatorosdealbacete.es/wp-content/uploads/2026/01/entradas-toros-valencia-fallas-festejo-2.jpg
END:VEVENT
END:VCALENDAR