BEGIN:VCALENDAR
VERSION:2.0
PRODID:-//Plaza de Toros Albacete - ECPv6.15.20//NONSGML v1.0//EN
CALSCALE:GREGORIAN
METHOD:PUBLISH
X-ORIGINAL-URL:https://plazatorosdealbacete.es
X-WR-CALDESC:Eventos para Plaza de Toros Albacete
REFRESH-INTERVAL;VALUE=DURATION:PT1H
X-Robots-Tag:noindex
X-PUBLISHED-TTL:PT1H
BEGIN:VTIMEZONE
TZID:Europe/Madrid
BEGIN:DAYLIGHT
TZOFFSETFROM:+0100
TZOFFSETTO:+0200
TZNAME:CEST
DTSTART:20250330T010000
END:DAYLIGHT
BEGIN:STANDARD
TZOFFSETFROM:+0200
TZOFFSETTO:+0100
TZNAME:CET
DTSTART:20251026T010000
END:STANDARD
BEGIN:DAYLIGHT
TZOFFSETFROM:+0100
TZOFFSETTO:+0200
TZNAME:CEST
DTSTART:20260329T010000
END:DAYLIGHT
BEGIN:STANDARD
TZOFFSETFROM:+0200
TZOFFSETTO:+0100
TZNAME:CET
DTSTART:20261025T010000
END:STANDARD
BEGIN:DAYLIGHT
TZOFFSETFROM:+0100
TZOFFSETTO:+0200
TZNAME:CEST
DTSTART:20270328T010000
END:DAYLIGHT
BEGIN:STANDARD
TZOFFSETFROM:+0200
TZOFFSETTO:+0100
TZNAME:CET
DTSTART:20271031T010000
END:STANDARD
END:VTIMEZONE
BEGIN:VEVENT
DTSTART;VALUE=DATE:20260307
DTEND;VALUE=DATE:20260308
DTSTAMP:20260426T035054
CREATED:20260115T232519Z
LAST-MODIFIED:20260131T201316Z
UID:13881-1772841600-1772927999@plazatorosdealbacete.es
SUMMARY:Alejandro González Fallas 2026
DESCRIPTION:7 de marzo\, Novillos de Aída Jovani\, Ian Bermejo (Escuela Taurina de Castellón)\, Israel Guirao (Escuela Taurina de Valencia)\, Clovis (Escuela Taurina de Béziers)\, Hugo Masiá (Escuela Taurina de Valencia) y Daniel García (Escuela Taurina José Cubero “Yiyo” de Madrid)
URL:https://plazatorosdealbacete.es/calendario/alejandro-gonzalez-fallas-2026/
ATTACH;FMTTYPE=image/jpeg:https://plazatorosdealbacete.es/wp-content/uploads/2026/01/entradas-toros-valencia-fallas-festejo-1.jpg
END:VEVENT
BEGIN:VEVENT
DTSTART;VALUE=DATE:20260307
DTEND;VALUE=DATE:20260308
DTSTAMP:20260426T035054
CREATED:20260131T194729Z
LAST-MODIFIED:20260131T194729Z
UID:13995-1772841600-1772927999@plazatorosdealbacete.es
SUMMARY:OLIVENZA 2ª DE FERIA
DESCRIPTION:Sábado 7 de marzo a las 5 de la tarde \nCorrida de toros. Toros de El Puerto de San Lorenzo \nJosé María Manzanares \nDaniel Luque \nJuan Ortega.
URL:https://plazatorosdealbacete.es/calendario/olivenza-2a-de-feria/
ATTACH;FMTTYPE=image/jpeg:https://plazatorosdealbacete.es/wp-content/uploads/2026/01/entradas-toros-olivenza-festejo-4.jpg
END:VEVENT
END:VCALENDAR